BEGIN:VCALENDAR
VERSION:2.0
PRODID:-//Heidi Strobl - ECPv5.14.0.4//NONSGML v1.0//EN
CALSCALE:GREGORIAN
METHOD:PUBLISH
X-WR-CALNAME:Heidi Strobl
X-ORIGINAL-URL:https://heidi-strobl.at
X-WR-CALDESC:Events for Heidi Strobl
REFRESH-INTERVAL;VALUE=DURATION:PT1H
X-Robots-Tag:noindex
X-PUBLISHED-TTL:PT1H
BEGIN:VTIMEZONE
TZID:Europe/Vienna
BEGIN:DAYLIGHT
TZOFFSETFROM:+0100
TZOFFSETTO:+0200
TZNAME:CEST
DTSTART:20260329T010000
END:DAYLIGHT
BEGIN:STANDARD
TZOFFSETFROM:+0200
TZOFFSETTO:+0100
TZNAME:CET
DTSTART:20261025T010000
END:STANDARD
END:VTIMEZONE
BEGIN:VEVENT
DTSTART;TZID=Europe/Vienna:20260711T160000
DTEND;TZID=Europe/Vienna:20260711T200000
DTSTAMP:20260420T042438
CREATED:20260112T150228Z
LAST-MODIFIED:20260112T150228Z
UID:1895-1783785600-1783800000@heidi-strobl.at
SUMMARY:Ausg’steckt is!
DESCRIPTION:Ausg’steckt is! 11.-14. Juli 2026
URL:https://heidi-strobl.at/event/ausgsteckt-is-2/
LOCATION:Alte Schule Wetzelsdorf\, Schulgasse 6\, Wetzelsdorf bei Poysdorf\, 2170
ATTACH;FMTTYPE=image/jpeg:https://heidi-strobl.at/wp-content/uploads/2025/08/Augsteckt-is-Tor.jpg
END:VEVENT
END:VCALENDAR